View In:
ArcGIS JavaScript
ArcGIS Online Map Viewer
ArcGIS Earth
Service Description: OCFlex/Rail_Stations_Transit_Centers
Name: OCFlex/Rail_Stations_Transit_Centers
Description:
Single Fused Map Cache: false
Extent:
XMin: 5990000.000000025
YMin: 2080000.0000000251
XMax: 6215000.000000025
YMax: 2305000.000000025
Spatial Reference: 102646
(2230)
LatestVCSWkid(0)
Initial Extent:
XMin: 5990000.000000025
YMin: 2080000.0000000251
XMax: 6215000.000000025
YMax: 2305000.000000025
Spatial Reference: 102646
(2230)
LatestVCSWkid(0)
Full Extent:
XMin: 5990000.000000025
YMin: 2080000.0000000251
XMax: 6215000.000000025
YMax: 2305000.000000025
Spatial Reference: 102646
(2230)
LatestVCSWkid(0)
Pixel Size X: 75.0
Pixel Size Y: 75.0
Band Count: 1
Pixel Type: S8
RasterFunction Infos: {"rasterFunctionInfos": [{
"name": "None",
"description": "",
"help": ""
}]}
Mensuration Capabilities: Basic
Inspection Capabilities:
Has Histograms: true
Has Colormap: false
Has Multi Dimensions : false
Rendering Rule:
Min Scale: 0
Max Scale: 0
Copyright Text:
Service Data Type: esriImageServiceDataTypeGeneric
Min Values: 0
Max Values: 10
Mean Values: 0.030259988354362423
Standard Deviation Values: 0.43735198457759733
Object ID Field:
Fields:
None
Default Mosaic Method: Center
Allowed Mosaic Methods:
SortField:
SortValue: null
Mosaic Operator: First
Default Compression Quality: 75
Default Resampling Method: Bilinear
Max Record Count: null
Max Image Height: 4100
Max Image Width: 15000
Max Download Image Count: null
Max Mosaic Image Count: null
Allow Raster Function: true
Allow Copy: true
Allow Analysis: true
Allow Compute TiePoints: false
Supports Statistics: false
Supports Advanced Queries: false
Use StandardizedQueries: true
Raster Type Infos:
Name: Raster Dataset
Description: Supports all ArcGIS Raster Datasets
Help:
Has Raster Attribute Table: true
Edit Fields Info: null
Ownership Based AccessControl For Rasters: null
Child Resources:
Info
Raster Attribute Table
Histograms
Statistics
Key Properties
Legend
Raster Function Infos
Supported Operations:
Export Image
Identify
Measure
Compute Histograms
Compute Statistics Histograms
Get Samples
Compute Class Statistics
Query Boundary
Compute Pixel Location
Compute Angles
Validate
Project